BEGIN:VCALENDAR
VERSION:2.0
PRODID:-//ChamberMaster//Event Calendar 2.0//EN
METHOD:PUBLISH
X-PUBLISHED-TTL:P3D
REFRESH-INTERVAL:P3D
CALSCALE:GREGORIAN
BEGIN:VEVENT
DTSTART:20140206T223000Z
DTEND:20140207T013000Z
X-MICROSOFT-CDO-ALLDAYEVENT:FALSE
SUMMARY:Leadership Union 2014
DESCRIPTION:Leadership Union Session 3\n\nTransformational Leadership/Community Project
X-ALT-DESC;FMTTYPE=text/html:Leadership Union Session 3<br />\nTransformational Leadership/Community Project<br type="_moz" />\n
LOCATION:Union County Community Center
UID:e.256.22230
SEQUENCE:3
DTSTAMP:20260424T165225Z
URL:https://members.visitblairsvillega.com/events/details/leadership-union-2014-02-06-2014-22230
END:VEVENT

END:VCALENDAR
