BEGIN:VCALENDAR
VERSION:2.0
PRODID:-//ChamberMaster//Event Calendar 2.0//EN
METHOD:PUBLISH
X-PUBLISHED-TTL:P3D
REFRESH-INTERVAL:P3D
CALSCALE:GREGORIAN
BEGIN:VEVENT
DTSTART:20140311T213000Z
DTEND:20140312T003000Z
X-MICROSOFT-CDO-ALLDAYEVENT:FALSE
SUMMARY:Leadership Union 2014
DESCRIPTION:Leadership Union Session 9 \n\nEthics
X-ALT-DESC;FMTTYPE=text/html:Leadership Union Session 9&nbsp\;<br />\nEthics
LOCATION:Union County Community Center
UID:e.256.22236
SEQUENCE:3
DTSTAMP:20260424T152819Z
URL:https://members.visitblairsvillega.com/events/details/leadership-union-2014-03-11-2014-22236
END:VEVENT

END:VCALENDAR
