BEGIN:VCALENDAR
VERSION:2.0
PRODID:-//ChamberMaster//Event Calendar 2.0//EN
METHOD:PUBLISH
X-PUBLISHED-TTL:P3D
REFRESH-INTERVAL:P3D
CALSCALE:GREGORIAN
BEGIN:VEVENT
DTSTART:20140318T130000Z
DTEND:20140318T190000Z
X-MICROSOFT-CDO-ALLDAYEVENT:FALSE
SUMMARY:Leadership Union 2014
DESCRIPTION:Leadership Union Session 10\n\nUnion County Tour
X-ALT-DESC;FMTTYPE=text/html:Leadership Union Session 10<br />\nUnion County Tour
LOCATION:Union County Community Center
UID:e.256.22237
SEQUENCE:3
DTSTAMP:20260424T152819Z
URL:https://members.visitblairsvillega.com/events/details/leadership-union-2014-03-18-2014-22237
END:VEVENT

END:VCALENDAR
