BEGIN:VCALENDAR
VERSION:2.0
PRODID:-//ChamberMaster//Event Calendar 2.0//EN
METHOD:PUBLISH
X-PUBLISHED-TTL:P3D
REFRESH-INTERVAL:P3D
CALSCALE:GREGORIAN
BEGIN:VEVENT
DTSTART:20140401T213000Z
DTEND:20140402T003000Z
X-MICROSOFT-CDO-ALLDAYEVENT:FALSE
SUMMARY:Leadership Union 2014
DESCRIPTION:Leadership Union Session 12\n\nVolunteerism Panel
X-ALT-DESC;FMTTYPE=text/html:Leadership Union Session 12<br />\nVolunteerism Panel
LOCATION:Union County Community Center
UID:e.256.22239
SEQUENCE:3
DTSTAMP:20260424T133433Z
URL:https://members.visitblairsvillega.com/events/details/leadership-union-2014-04-01-2014-22239
END:VEVENT

END:VCALENDAR
