BEGIN:VCALENDAR
VERSION:2.0
PRODID:-//ChamberMaster//Event Calendar 2.0//EN
METHOD:PUBLISH
X-PUBLISHED-TTL:P3D
REFRESH-INTERVAL:P3D
CALSCALE:GREGORIAN
BEGIN:VEVENT
DTSTART:20160117T200000Z
DTEND:20160117T210000Z
X-MICROSOFT-CDO-ALLDAYEVENT:FALSE
SUMMARY:Learn How to Help Your Body Lose Weight Naturally
DESCRIPTION:It's that time of the year\, when everyone is thinking about New Year's Resolutions. We all have a positive goal or a healthy habit that has been on our to do list. Perhaps\, we want to stop self sabotaging negative patterns. Weight Loss and Fitness are usually on top of everyone's list.\n\n\n\nBut did you know that there's a healthy way to lose that extra weight? Yes\, it's possible to do that without punishing dieting and restrictive calorie counting. If you're tired of always being on a diet\, then this workshop is for you!\n\n\n\nI will share with you why some people have such a hard time losing weight that no amount of dieting can fix. Your body wants to shed unwanted pounds. All we need to do is assist it by eliminating harmful elements from your diet and environment.\n\n\n\nThis talk will take place on Sunday\, Jan 17th at 3pm\, immediately after a Restorative Yoga Guided Meditation Workshop from 1-3pm.
X-ALT-DESC;FMTTYPE=text/html:It&#39\;s that time of the year\, when everyone is thinking about New Year&#39\;s Resolutions. We all have a positive goal or a healthy habit that has been on our to do list. Perhaps\, we want to stop self sabotaging negative patterns. Weight Loss and Fitness are usually on top of everyone&#39\;s list.<br />\n<br />\nBut did you know that there&#39\;s a healthy way to lose that extra weight? Yes\, it&#39\;s possible to do that without punishing dieting and restrictive calorie counting. If you&#39\;re tired of always being on a diet\, then this workshop is for you!<br />\n<br />\nI will share with you why some people have such a hard time losing weight that no amount of dieting can fix. Your body wants to shed unwanted pounds. All we need to do is assist it by eliminating harmful elements from your diet and environment.<br />\n<br />\nThis talk will take place on Sunday\, Jan 17th at 3pm\, immediately after a Restorative Yoga Guided Meditation Workshop from 1-3pm.<br />\n<br />\n<br />\n&nbsp\;
LOCATION:98 Cleveland St. Blairsville
UID:e.256.45924
SEQUENCE:3
DTSTAMP:20260421T060151Z
URL:https://members.visitblairsvillega.com/events/details/learn-how-to-help-your-body-lose-weight-naturally-01-17-2016-45924
END:VEVENT

END:VCALENDAR
