BEGIN:VCALENDAR
VERSION:2.0
PRODID:-//ChamberMaster//Event Calendar 2.0//EN
METHOD:PUBLISH
X-PUBLISHED-TTL:P3D
REFRESH-INTERVAL:P3D
CALSCALE:GREGORIAN
BEGIN:VEVENT
DTSTART:20160407T163000Z
DTEND:20160407T173000Z
X-MICROSOFT-CDO-ALLDAYEVENT:FALSE
SUMMARY:Learn to Build a Verticle Garden - Grow 60-100 plants in 2 feet of space!
DESCRIPTION:At Natural Treatments for Brain and Body\, we encourage everyone to grow as much of their own food as possible. You can make the soil rich with minerals that go into the plants. Every cell in your body is built around minerals. Be healthier by eating food that contains more minerals!\n\n\n\nLearn how to grow 60-100+ plants in only 2 feet of space. You can even grow this in a container on your deck or on the ground. This system has an easy way to water your plants too.\n\n\n\nSome supplies are available. You will receive plans to make your own vertical garden and watch how one is made.
X-ALT-DESC;FMTTYPE=text/html:At Natural Treatments for Brain and Body\, we encourage everyone to grow as much of their own food as possible. You can make the soil rich with minerals that go into the plants. Every cell in your body is built around minerals. Be healthier by eating food that contains more minerals!<br />\n<br />\nLearn how to grow 60-100+ plants in only 2 feet of space. You can even grow this in a container on your deck or on the ground. This system has an easy way to water your plants too.<br />\n<br />\nSome supplies are available. You will receive plans to make your own vertical garden and watch how one is made.<br />\n<br />\n&nbsp\;
LOCATION:64 Bracketts Way Suite 9 Blairsville\, GA
UID:e.256.23584
SEQUENCE:3
DTSTAMP:20260421T003037Z
URL:https://members.visitblairsvillega.com/events/details/learn-to-build-a-verticle-garden-grow-60-100-plants-in-2-feet-of-space-04-07-2016-23584
END:VEVENT

END:VCALENDAR
