BEGIN:VCALENDAR
VERSION:2.0
PRODID:-//ChamberMaster//Event Calendar 2.0//EN
METHOD:PUBLISH
X-PUBLISHED-TTL:P3D
REFRESH-INTERVAL:P3D
CALSCALE:GREGORIAN
BEGIN:VEVENT
DTSTART:20140513T230000Z
DTEND:20140514T010000Z
X-MICROSOFT-CDO-ALLDAYEVENT:FALSE
SUMMARY:Lecture by Emory Jones on "John Kollock's Guide to 75 Special Places"
DESCRIPTION:Union County Historical Society will present its evening meeting at 7:00pm on Tuesday\, May 13th in the old courtroom with a lecture by Emory Jones\, author and Vice President of the White County Historical Society. Topic will be on John Kollock's Guide to 75 special Places to see in Northeast Georgia. You will truly enjoy the humor of Emory along with his lecture on a journey through the special places across the beautiful mountain regions.\n\nPublic Welcome! Come enjoy the lecture and refreshments afterward.
X-ALT-DESC;FMTTYPE=text/html:Union County Historical Society will present its evening meeting at 7:00pm on Tuesday\, May 13th in the old courtroom with a lecture by Emory Jones\, author and Vice President of the White County Historical Society. Topic will be on John Kollock&#39\;s Guide to 75 special Places to see in Northeast Georgia. You will truly enjoy the humor of Emory along with his lecture on a journey through the special places across the beautiful mountain regions.<br />\nPublic Welcome! Come enjoy the lecture and refreshments afterward.
LOCATION:Union County Historical Courthouse Downtown on the Square Blairsville\, GA
UID:e.256.24394
SEQUENCE:3
DTSTAMP:20260424T122615Z
URL:https://members.visitblairsvillega.com/events/details/lecture-by-emory-jones-on-john-kollock-s-guide-to-75-special-places-05-13-2014-24394
END:VEVENT

END:VCALENDAR
