BEGIN:VCALENDAR
VERSION:2.0
PRODID:-//ChamberMaster//Event Calendar 2.0//EN
METHOD:PUBLISH
X-PUBLISHED-TTL:P3D
REFRESH-INTERVAL:P3D
CALSCALE:GREGORIAN
BEGIN:VEVENT
DTSTART:20150716T120000Z
DTEND:20150716T200000Z
X-MICROSOFT-CDO-ALLDAYEVENT:FALSE
SUMMARY:Lego Engineering Camp
DESCRIPTION:It's not too early to register! Lego camp starts in July\, so plan to be there! This camp will encourage your child to be creative while learning and having a blast all at the same time. This class will help children utilize their energy on a project that can help teach motor skills\, creativity and also help develop social skills. Children simply learn better when they are having fun and this hands-on class is a perfect way to build active minds. Our Lego camps separate children into two age groups. Lego Engineering Junior is designed for children ages 6 to 8 and Lego Engineering is designed for children ages 9 to 12. Campers are expected to bring a bag lunch each day. Class size is limited so register early
X-ALT-DESC;FMTTYPE=text/html:<span style="font-size: 14px\;"><span style="color: black\;"><span style="font-family: comic sans ms\;">It&rsquo\;s not too early to register! Lego camp starts in July\, so plan to be there! This camp will encourage your child to be creative while learning and having a blast all at the same time. This class will help children utilize their energy on a project that can help teach motor skills\, creativity and also help develop social skills. Children simply learn better when they are having fun and this hands-on class is a perfect way to build active minds. Our Lego camps separate children into two age groups. Lego Engineering Junior is designed for children ages 6 to 8 and Lego Engineering is designed for children ages 9 to 12. Campers are expected to bring a bag lunch each day. Class size is limited so register early</span></span></span>
LOCATION:North Georgia Technical College-Blairsville Campus 121 Meeks Ave
UID:e.256.40271
SEQUENCE:3
DTSTAMP:20260423T150856Z
URL:https://members.visitblairsvillega.com/events/details/lego-engineering-camp-07-16-2015-40271
END:VEVENT

END:VCALENDAR
