BEGIN:VCALENDAR
VERSION:2.0
PRODID:-//ChamberMaster//Event Calendar 2.0//EN
METHOD:PUBLISH
X-PUBLISHED-TTL:P3D
REFRESH-INTERVAL:P3D
CALSCALE:GREGORIAN
BEGIN:VEVENT
DTSTART:20140406T140000Z
DTEND:20140406T220000Z
X-MICROSOFT-CDO-ALLDAYEVENT:FALSE
SUMMARY:Let's Hang Out - Spring Break at North Georgia Zoo & Farm
DESCRIPTION:Fun\, Interactive and Educational! Take a Wildlife Walk or one of our many encounters: Wolf\, Otter\, Fennec Fox and more! Spend the day with us! Bring a lunch and enjoy the picnic area!
X-ALT-DESC;FMTTYPE=text/html:Fun\, Interactive and Educational! Take a Wildlife Walk or one of our many encounters: Wolf\, Otter\, Fennec Fox and more! Spend the day with us! Bring a lunch and enjoy the picnic area!
LOCATION:2912 Paradise Valley Rd Cleveland\, GA 30528
UID:e.256.23462
SEQUENCE:3
DTSTAMP:20260424T134407Z
URL:https://members.visitblairsvillega.com/events/details/let-s-hang-out-spring-break-at-north-georgia-zoo-farm-04-06-2014-23462
END:VEVENT

END:VCALENDAR
