BEGIN:VCALENDAR
VERSION:2.0
PRODID:-//ChamberMaster//Event Calendar 2.0//EN
METHOD:PUBLISH
X-PUBLISHED-TTL:P3D
REFRESH-INTERVAL:P3D
CALSCALE:GREGORIAN
BEGIN:VEVENT
DTSTART:20160212T150000Z
DTEND:20160212T200000Z
X-MICROSOFT-CDO-ALLDAYEVENT:FALSE
SUMMARY:Let Your Love GLOW - Valentine's Event
DESCRIPTION:Exclusive Valentine's Day shopping event at Glow Hair & Nail Salon\, featuring Glow's favorite vendors. Shop with Premier Designs Jewelry\, Pampered Chef\, Origami Owl\, Thirty-One Gifts\, and Yuzi Bath. Take care of your last minute Valentine's Day gifts! Enjoy Refreshments and Fellowship! Get Pampered! All Glow customers that day will also receive: 10% OFF services / 20% OFF Regular Priced Product
X-ALT-DESC;FMTTYPE=text/html:Exclusive Valentine&#39\;s Day shopping event at Glow Hair &amp\; Nail Salon\, featuring Glow&#39\;s favorite vendors. Shop with Premier Designs Jewelry\, Pampered Chef\, Origami Owl\, Thirty-One Gifts\, and Yuzi Bath. Take care of your last minute Valentine&#39\;s Day gifts! Enjoy Refreshments and Fellowship! Get Pampered! All Glow customers that day will also receive: 10% OFF services / 20% OFF Regular Priced Product
LOCATION:Glow Hair & Nail Salon 294 Hwy 515\, Suite F Blairsville\, GA 30512
UID:e.256.49323
SEQUENCE:3
DTSTAMP:20260421T040309Z
URL:https://members.visitblairsvillega.com/events/details/let-your-love-glow-valentine-s-event-02-12-2016-49323
END:VEVENT

END:VCALENDAR
