BEGIN:VCALENDAR
VERSION:2.0
PRODID:-//ChamberMaster//Event Calendar 2.0//EN
METHOD:PUBLISH
X-PUBLISHED-TTL:P3D
REFRESH-INTERVAL:P3D
CALSCALE:GREGORIAN
BEGIN:VEVENT
DTSTART:20160403T223000Z
DTEND:20160404T000000Z
X-MICROSOFT-CDO-ALLDAYEVENT:FALSE
SUMMARY:LEWIS & CLARK OLD FASHIONED BIG TOP CIRCUS
DESCRIPTION:Inside the big tent children watched in amazement as jugglers\, clowns\, horses\, and acrobats performed in the ring. \n\n\n\nChildren 14 & under 2 Free with a coupon (coupons will be given to them at school & businesses) with paid Adults\n\n\n\nTicket Prices at the Gate\n\nAdults - $15.00 at the gate\n\nChildren - $5.00 at the gate (without a coupon)
X-ALT-DESC;FMTTYPE=text/html:<div>\n<p class="MsoNormal" style="margin: 0in 0in 0pt\;"><span style="font-size: 14px\;"><span style="color: rgb(0\, 0\, 128)\;"><em><strong><span style="font-family: arial\,sans-serif\;">Inside the big tent children watched in amazement as jugglers\, clowns\, horses\, and acrobats performed in the ring. </span></strong></em></span></span><br />\n<br />\n<span style="color: rgb(0\, 0\, 128)\;"><span style="font-size: 18px\;"><em><strong><span style="font-size: 14px\;"><em><strong><span style="font-family: comic sans ms\;"><span style="color: rgb(0\, 0\, 128)\;">Children 14 &amp\; under&nbsp\;2 Free with a coupon (coupons will be given to them at school &amp\; businesses) with paid Adults<br />\n<br />\nTicket Prices at the Gate<br />\n<strong><em><font color="#000080">Adults - $15.00 at the gate</font></em></strong><br />\nChildren - $5.00 at the gate (</span></span><span style="font-family: comic sans ms\;"><span style="color: rgb(0\, 0\, 128)\;">without a coupon</span></span><span style="font-family: comic sans ms\;"><span style="color: rgb(0\, 0\, 128)\;">)</span></span></strong></em></span></strong></em></span></span></p>\n\n<p class="MsoNormal" style="margin: 0in 0in 0pt\;">&nbsp\;</p>\n</div>\n
LOCATION:Meeks Park Hwy. 515W (1/2 mile west of Blairsville) Blairsville\, GA
UID:e.256.50557
SEQUENCE:3
DTSTAMP:20260421T002348Z
URL:https://members.visitblairsvillega.com/events/details/lewis-clark-old-fashioned-big-top-circus-04-03-2016-50557
END:VEVENT

END:VCALENDAR
