BEGIN:VCALENDAR
VERSION:2.0
PRODID:-//ChamberMaster//Event Calendar 2.0//EN
METHOD:PUBLISH
X-PUBLISHED-TTL:P3D
REFRESH-INTERVAL:P3D
CALSCALE:GREGORIAN
BEGIN:VEVENT
DTSTART;VALUE=DATE:20140905
DTEND;VALUE=DATE:20140906
TRANSP:TRANSPARENT
X-MICROSOFT-CDO-ALLDAYEVENT:TRUE
SUMMARY:Licklog Players presents "A Piece of my Heart"
DESCRIPTION:Don't miss Licklog Players Production of "A Piece of my Heart" Show dates are September 5\,6\,&7th and September 12\,13\,& 14th. Friday and Saturday night shows are at 8pm and Sunday matinees are at 2:30pm. Box Office will open August 25th Mon-Fri 10am-2pm. Tickets are $15 for adults: $13 for seniors and $8 for students. For more information and tickets call 828-389-8632 or e-mail licklogplayers@aol.com Licklog Players\, Inc 828-389-8632 www.licklogplayers.org
X-ALT-DESC;FMTTYPE=text/html:Don&#39\;t miss Licklog Players Production of &quot\;A Piece of my Heart&quot\; Show dates are September 5\,6\,&amp\;7th and September 12\,13\,&amp\; 14th. Friday and Saturday night shows are at 8pm and Sunday matinees are at 2:30pm. Box Office will open August 25th Mon-Fri 10am-2pm. Tickets are $15 for adults: $13 for seniors and $8 for students. For more information and tickets call 828-389-8632 or e-mail licklogplayers@aol.com Licklog Players\, Inc 828-389-8632 www.licklogplayers.org
LOCATION:Licklog Players Theater Hayesville\, NC
UID:e.256.25547
SEQUENCE:3
DTSTAMP:20260424T063452Z
URL:https://members.visitblairsvillega.com/events/details/licklog-players-presents-a-piece-of-my-heart-09-05-2014-25547
END:VEVENT

END:VCALENDAR
