BEGIN:VCALENDAR
VERSION:2.0
PRODID:-//ChamberMaster//Event Calendar 2.0//EN
METHOD:PUBLISH
X-PUBLISHED-TTL:P3D
REFRESH-INTERVAL:P3D
CALSCALE:GREGORIAN
BEGIN:VEVENT
DTSTART:20140627T130000Z
DTEND:20140627T160000Z
X-MICROSOFT-CDO-ALLDAYEVENT:FALSE
SUMMARY:Licklog Players Summer Youth Program "Rising Stars"
DESCRIPTION:Licklog Players Summer Youth Program "Rising Stars" will be June 23rd-27th & July 7th-11th from 9am to 12 pm. Ages 8-15. Cost is $85.00 per person per session. For more information call 828-389-8632 or e-mail licklogplayers@aol.com. Licklog Players\, Inc 828-389-8632 www.licklogplayers.org
X-ALT-DESC;FMTTYPE=text/html:Licklog Players Summer Youth Program &quot\;Rising Stars&quot\; will be <strong>June 23rd-27th &amp\; July 7th-11th from 9am to 12 pm. Ages 8-15. Cost is $85.00 per person per session. </strong>For more information call 828-389-8632 or e-mail licklogplayers@aol.com. Licklog Players\, Inc 828-389-8632 www.licklogplayers.org
LOCATION:Licklog Theater Hayesville\, NC
UID:e.256.24614
SEQUENCE:3
DTSTAMP:20260424T105300Z
URL:https://members.visitblairsvillega.com/events/details/licklog-players-summer-youth-program-rising-stars-06-27-2014-24614
END:VEVENT

END:VCALENDAR
