BEGIN:VCALENDAR
VERSION:2.0
PRODID:-//ChamberMaster//Event Calendar 2.0//EN
METHOD:PUBLISH
X-PUBLISHED-TTL:P3D
REFRESH-INTERVAL:P3D
CALSCALE:GREGORIAN
BEGIN:VEVENT
DTSTART:20141004T233000Z
DTEND:20141005T013000Z
X-MICROSOFT-CDO-ALLDAYEVENT:FALSE
SUMMARY:Licklog Theater presents "Wiley and the Hairy Man"
DESCRIPTION:Licklog Players' "Rising Stars" & "Community Youth Players" Production of "Wiley and the Hairy Man" Only two show! Saturday October 4th at 7:30pm and Sunday October 5th at 2\;30pm. Tickets are Adults $10 and students $5 We are located at 34 Creekside Plaza (across from the ABC store) in Hayesville. N.C. For more information call 828-389-8632 or e-mail us at licklogplayers@aol.com Licklog Players\, Inc 828-389-8632 www.licklogplayers.org
X-ALT-DESC;FMTTYPE=text/html:Licklog Players&#39\; &quot\;Rising Stars&quot\; &amp\; &quot\;Community Youth Players&quot\; Production of &quot\;Wiley and the Hairy Man&quot\; Only two show! Saturday October 4th at 7:30pm and Sunday October 5th at 2\;30pm. Tickets are Adults $10 and students $5 We are located at 34 Creekside Plaza (across from the ABC store) in Hayesville. N.C. For more information call 828-389-8632 or e-mail us at licklogplayers@aol.com Licklog Players\, Inc 828-389-8632 www.licklogplayers.org
LOCATION:34 Creekside Plaza (across from the ABC store) Hayesville\, N.C.
UID:e.256.27411
SEQUENCE:3
DTSTAMP:20260424T045639Z
URL:https://members.visitblairsvillega.com/events/details/licklog-theater-presents-wiley-and-the-hairy-man-10-04-2014-27411
END:VEVENT

END:VCALENDAR
