BEGIN:VCALENDAR
VERSION:2.0
PRODID:-//ChamberMaster//Event Calendar 2.0//EN
METHOD:PUBLISH
X-PUBLISHED-TTL:P3D
REFRESH-INTERVAL:P3D
CALSCALE:GREGORIAN
BEGIN:VEVENT
DTSTART:20141005T180000Z
DTEND:20141005T190000Z
X-MICROSOFT-CDO-ALLDAYEVENT:FALSE
SUMMARY:Life Chain
DESCRIPTION:Life Chain 2014 will take place on October 5 from 2:00 to 3:00 p.m. This is an ecumenical hour of prayer for our nation and a peaceful\, legal\, and compassionate public witness on behalf of the unborn and their mothers at risk of abortion. Everyone in the community is welcome to join others in this peaceful and prayerful public witness. We will be meeting at 2:00 p.m. at the Park and Ride in Blairsville (located near the stoplight intersection of Hwys 129 and 515).
X-ALT-DESC;FMTTYPE=text/html:Life Chain 2014 will take place on October 5 from 2:00 to 3:00 p.m. This is an ecumenical hour of prayer for our nation and a peaceful\, legal\, and compassionate public witness on behalf of the unborn and their mothers at risk of abortion. Everyone in the community is welcome to join others in this peaceful and prayerful public witness. We will be meeting at 2:00 p.m. at the Park and Ride in Blairsville (located near the stoplight intersection of Hwys 129 and 515).
LOCATION:We will be meeting at 2:00 p.m. at the Park and Ride in Blairsville (located near the stoplight intersection of Hwys 129 and 515).
UID:e.256.27478
SEQUENCE:3
DTSTAMP:20260424T044941Z
URL:https://members.visitblairsvillega.com/events/details/life-chain-10-05-2014-27478
END:VEVENT

END:VCALENDAR
