BEGIN:VCALENDAR
VERSION:2.0
PRODID:-//ChamberMaster//Event Calendar 2.0//EN
METHOD:PUBLISH
X-PUBLISHED-TTL:P3D
REFRESH-INTERVAL:P3D
CALSCALE:GREGORIAN
BEGIN:VEVENT
DTSTART:20160603T130000Z
DTEND:20160603T210000Z
X-MICROSOFT-CDO-ALLDAYEVENT:FALSE
SUMMARY:Life Line Screening / United Community Bank
DESCRIPTION:United Community Bank will offer area residents an opportunity to do something that might possibly save their lives and/or prevent serious disability that is caused by stroke\, vascular disease and osteoporosis.  The screening tests are performed by experienced professional sonographers using sophisticated Doppler ultrasound technology.  A board certified physician registered in your state reviews all results before they are sent to individual screening participants in about 21 days.  Our mission is to make people aware of potentially serious conditions that are difficult to detect in routine check-ups.
X-ALT-DESC;FMTTYPE=text/html:<span style="font-size: 12pt\;"><span style="font-family: calibri\,sans-serif\;"><span style="color: black\;">United Community Bank will offer area residents an opportunity to do something that might possibly save their lives and/or prevent serious disability that is caused by stroke\, vascular disease and osteoporosis.&nbsp\; The screening tests are performed by experienced professional sonographers using sophisticated Doppler ultrasound technology.&nbsp\; A board certified physician registered in your state reviews all results before they are sent to individual screening participants in about 21 days.&nbsp\; Our mission is to make people aware of potentially serious conditions that are difficult to detect in routine check-ups. </span></span></span><br />\n<br />\n<br />\n<br />\n&nbsp\;
LOCATION:United Community Bank\, Highway 515\, Blairsville GA
UID:e.256.51255
SEQUENCE:3
DTSTAMP:20260420T223031Z
URL:https://members.visitblairsvillega.com/events/details/life-line-screening-united-community-bank-06-03-2016-51255
END:VEVENT

END:VCALENDAR
