BEGIN:VCALENDAR
VERSION:2.0
PRODID:-//ChamberMaster//Event Calendar 2.0//EN
METHOD:PUBLISH
X-PUBLISHED-TTL:P3D
REFRESH-INTERVAL:P3D
CALSCALE:GREGORIAN
BEGIN:VEVENT
DTSTART:20150312T220000Z
DTEND:20150312T233000Z
X-MICROSOFT-CDO-ALLDAYEVENT:FALSE
SUMMARY:Life Wellness Center Fundraiser Featuring Premier Designs Jewelry
DESCRIPTION:Dr. Cynthia Libert of Life Wellness Center is hosting a Special Fundraising Event to benefit the Non-Profit Organization\, Compassion in Jesus Name\, featuring Premier Designs Jewelry. To Learn More About This Special Organization\, please visit Compassion.com Can?t Make It But Would Like to Support This Special Fundraiser Event. Please Contact Alysia Hargus of Premier Designs Jewelry at 706-994-9711 Email: PremierDesignsByAlysia@gmail.com Webpage: AlysiaHargus.MyPremierDesigns.com (Access Code to browse catalogs: shine) Facebook Event Link: https://www.facebook.com/events/76425036698537 Evite Link for Event: http://planner.premierdesigns.com/parties/6467632-premier-designs-jewelry-fundraiser-to-benefit-dr-libert-s-compassion-in-jesus-name-medical-ministry
X-ALT-DESC;FMTTYPE=text/html:Dr. Cynthia Libert of Life Wellness Center is hosting a Special Fundraising Event to benefit the Non-Profit Organization\, Compassion in Jesus Name\, featuring Premier Designs Jewelry. To Learn More About This Special Organization\, please visit Compassion.com Can?t Make It But Would Like to Support This Special Fundraiser Event. Please Contact Alysia Hargus of Premier Designs Jewelry at 706-994-9711 Email: PremierDesignsByAlysia@gmail.com Webpage: AlysiaHargus.MyPremierDesigns.com (Access Code to browse catalogs: shine) Facebook Event Link: https://www.facebook.com/events/76425036698537 Evite Link for Event: http://planner.premierdesigns.com/parties/6467632-premier-designs-jewelry-fundraiser-to-benefit-dr-libert-s-compassion-in-jesus-name-medical-ministry
LOCATION:Life Wellness Center 15 Earnest Drive Blairsville\, GA 30512
UID:e.256.37467
SEQUENCE:3
DTSTAMP:20260423T212432Z
URL:https://members.visitblairsvillega.com/events/details/life-wellness-center-fundraiser-featuring-premier-designs-jewelry-03-12-2015-37467
END:VEVENT

END:VCALENDAR
