BEGIN:VCALENDAR
VERSION:2.0
PRODID:-//ChamberMaster//Event Calendar 2.0//EN
METHOD:PUBLISH
X-PUBLISHED-TTL:P3D
REFRESH-INTERVAL:P3D
CALSCALE:GREGORIAN
BEGIN:VEVENT
DTSTART:20141129T164500Z
DTEND:20141129T233000Z
X-MICROSOFT-CDO-ALLDAYEVENT:FALSE
SUMMARY:Light Up Blue Ridge
DESCRIPTION:Light Up Blue Ridge in Downtown Blue Ridge\n\nChristmas parade at noon\, live music and performances all day\, Santa and Mrs. Claus will be available for photos\, and the lighting of the Great Tree at 6pm! A full day of fun begins on Saturday when Tuba Christmas performs as Santa and Mrs. Claus arrive in a horse drawn sleight at 11:45 a.m.  Santa and Mrs. Claus will be in the holiday parade immediately following their arrival. Visit with Santa and Mrs. Claus and have photos taken in the gazebo in downtown Blue Ridge.
X-ALT-DESC;FMTTYPE=text/html:Light Up Blue Ridge in Downtown Blue Ridge<br />\nChristmas parade at noon\, live music and performances all day\, Santa and Mrs. Claus will be available for photos\, and the lighting of the Great Tree at 6pm!&nbsp\;A full day of fun begins on Saturday when Tuba Christmas performs as&nbsp\;Santa and Mrs.&nbsp\;Claus arrive in a horse drawn sleight at 11:45 a.m.&nbsp\; Santa and Mrs. Claus will be in the holiday parade immediately following their arrival. Visit with Santa and Mrs. Claus&nbsp\;and have&nbsp\;photos taken in the gazebo in downtown Blue Ridge.
LOCATION:Downtown Blue Ridge
UID:e.256.28047
SEQUENCE:3
DTSTAMP:20260424T033313Z
URL:https://members.visitblairsvillega.com/events/details/light-up-blue-ridge-11-29-2014-28047
END:VEVENT

END:VCALENDAR
