BEGIN:VCALENDAR
VERSION:2.0
PRODID:-//ChamberMaster//Event Calendar 2.0//EN
METHOD:PUBLISH
X-PUBLISHED-TTL:P3D
REFRESH-INTERVAL:P3D
CALSCALE:GREGORIAN
BEGIN:VEVENT
DTSTART:20141121T170000Z
DTEND:20141121T190000Z
X-MICROSOFT-CDO-ALLDAYEVENT:FALSE
SUMMARY:Lighthouse Christian Academy Thanksgiving dinner and program
DESCRIPTION:Lighthouse Christian Academy would be honored to have our veterans and public servants join us for lunch.
X-ALT-DESC;FMTTYPE=text/html:Lighthouse Christian Academy would be honored to have our veterans and public servants join us for lunch.
LOCATION:Lighthouse Christian Academy 772 John Smith Rd. East Blairsville\, GA
UID:e.256.27907
SEQUENCE:3
DTSTAMP:20260424T033404Z
URL:https://members.visitblairsvillega.com/events/details/lighthouse-christian-academy-thanksgiving-dinner-and-program-11-21-2014-27907
END:VEVENT

END:VCALENDAR
