BEGIN:VCALENDAR
VERSION:2.0
PRODID:-//ChamberMaster//Event Calendar 2.0//EN
METHOD:PUBLISH
X-PUBLISHED-TTL:P3D
REFRESH-INTERVAL:P3D
CALSCALE:GREGORIAN
BEGIN:VEVENT
DTSTART;VALUE=DATE:20140222
DTEND;VALUE=DATE:20140223
TRANSP:TRANSPARENT
X-MICROSOFT-CDO-ALLDAYEVENT:TRUE
SUMMARY:Lions Annual Trash and Treasure
DESCRIPTION:Lions Annual Trash and Treasure\n\nSaturday\, February 22\, 2014\n\nHaralson Memorial Civic Center - Wellborn Street\n\nLots of items to meet any and all wants\, desires and fancies. Crafts\, books\, household items\, jellies\, soup mixes\, collectibles\, antiques\, Avon\, Girl Scout Cookies\, pies & cupcakes\, jewelry\, and even doll houses\; one that is already wired for electricity!
X-ALT-DESC;FMTTYPE=text/html:Lions Annual Trash and Treasure<br />\nSaturday\, February 22\, 2014<br />\nHaralson&nbsp\;Memorial&nbsp\;Civic Center - Wellborn Street<br />\nLots of items to meet any and all wants\, desires and fancies. Crafts\, books\, household items\, jellies\, soup mixes\, collectibles\, antiques\, Avon\, Girl Scout Cookies\, pies &amp\; cupcakes\, jewelry\, and even doll houses\; one that is already wired for electricity! 
LOCATION:Haralson Memorial Civic Center Wellborn Street Blairsville
UID:e.256.23040
SEQUENCE:3
DTSTAMP:20260424T165143Z
URL:https://members.visitblairsvillega.com/events/details/lions-annual-trash-and-treasure-02-22-2014-23040
END:VEVENT

END:VCALENDAR
