BEGIN:VCALENDAR
VERSION:2.0
PRODID:-//ChamberMaster//Event Calendar 2.0//EN
METHOD:PUBLISH
X-PUBLISHED-TTL:P3D
REFRESH-INTERVAL:P3D
CALSCALE:GREGORIAN
BEGIN:VEVENT
DTSTART:20160214T003000Z
DTEND:20160214T023000Z
X-MICROSOFT-CDO-ALLDAYEVENT:FALSE
SUMMARY:Little Anthony & The Imperials
DESCRIPTION:Little Anthony and the Imperials are one of the finest vocal groups to emerge from the talent-rich New York scene of the 1950's. Moreover\, they enjoyed unusual longevity for an act of that type\, having hits in both the doo-wop Fifties and the soul-music Sixties. "Tears on My Pillow\," their first single as the Imperials\, was released to world-wide acclaim. This classic vocal-group ballad was one of the biggest hits of 1958\, reaching #2 on the R&B chart and #4 on the pop chart. Little Anthony and the Imperials were suddenly stars and the group also continued their hitmaking ways\, charting ten more singles between the mid-Sixties and mid-Seventies\, including "Take Me Back" and "I Miss You So." They have received the Pioneer Award from the Rhythm and Blues Foundation and have been inducted into the Vocal Group Hall of Fame. In 2008\, Little Anthony and the Imperials released "You'll Never Know\," an album of new songs and re-recorded oldies to celebrate their 50th anniversary as a group
X-ALT-DESC;FMTTYPE=text/html:Little Anthony and the Imperials are one of the finest vocal groups to emerge from the talent-rich New York scene of the 1950&#39\;s. Moreover\, they enjoyed unusual longevity for an act of that type\, having hits in both the doo-wop Fifties and the soul-music Sixties. &quot\;Tears on My Pillow\,&quot\; their first single as the Imperials\, was released to world-wide acclaim. This classic vocal-group ballad was one of the biggest hits of 1958\, reaching #2 on the R&amp\;B chart and #4 on the pop chart. Little Anthony and the Imperials were suddenly stars and the group also continued their hitmaking ways\, charting ten more singles between the mid-Sixties and mid-Seventies\, including &quot\;Take Me Back&quot\; and &quot\;I Miss You So.&quot\; They have received the Pioneer Award from the Rhythm and Blues Foundation and have been inducted into the Vocal Group Hall of Fame. In 2008\, Little Anthony and the Imperials released &quot\;You&#39\;ll Never Know\,&quot\; an album of new songs and re-recorded oldies to celebrate their 50th anniversary as a group
LOCATION:Smoky Mountain Center for the Performing Arts 1028 Georgia Road Franklin\, NC 28734
UID:e.256.45917
SEQUENCE:3
DTSTAMP:20260421T035908Z
URL:https://members.visitblairsvillega.com/events/details/little-anthony-the-imperials-02-13-2016-45917
END:VEVENT

END:VCALENDAR
