BEGIN:VCALENDAR
VERSION:2.0
PRODID:-//ChamberMaster//Event Calendar 2.0//EN
METHOD:PUBLISH
X-PUBLISHED-TTL:P3D
REFRESH-INTERVAL:P3D
CALSCALE:GREGORIAN
BEGIN:VEVENT
DTSTART:20171006T120000Z
DTEND:20171006T163000Z
X-MICROSOFT-CDO-ALLDAYEVENT:FALSE
SUMMARY:Live 2 Lead
DESCRIPTION:Live2Lead is a leadership and personal growth simulcast event. This event is an annual leadership gathering developed by The John Maxwell Company. For almost a decade\, Live2Lead has shared leadership and personal growth principles to a live audience and over 300 simulcast locations around the world. Attendees learn from renowned leadership experts from a variety of industries\, gain new perspectives on relevant topics\, and get practical tools to take home with them. We guarantee you will leave equipped and excited to lead and create change with renewed passion and drive.
X-ALT-DESC;FMTTYPE=text/html:Live2Lead is a leadership and personal growth simulcast event. This event is an annual leadership gathering developed by The John Maxwell Company. For almost a decade\, Live2Lead has shared leadership and personal growth principles to a live audience and over 300 simulcast locations around the world. Attendees learn from renowned leadership experts from a variety of industries\, gain new perspectives on relevant topics\, and get practical tools to take home with them. We guarantee you will leave equipped and excited to lead and create change with renewed passion and drive.
LOCATION:North Georgia Technical College Blairsville Campus
UID:e.256.75986
SEQUENCE:3
DTSTAMP:20260419T155435Z
URL:https://members.visitblairsvillega.com/events/details/live-2-lead-75986
END:VEVENT

END:VCALENDAR
