BEGIN:VCALENDAR
VERSION:2.0
PRODID:-//ChamberMaster//Event Calendar 2.0//EN
METHOD:PUBLISH
X-PUBLISHED-TTL:P3D
REFRESH-INTERVAL:P3D
CALSCALE:GREGORIAN
BEGIN:VEVENT
DTSTART;VALUE=DATE:20150925
DTEND;VALUE=DATE:20150926
TRANSP:TRANSPARENT
X-MICROSOFT-CDO-ALLDAYEVENT:TRUE
SUMMARY:LIVE BLUES MUSIC
DESCRIPTION:LIVE BLUES MUSIC\n\nD.W. MUSSELWHITE & THE CREW\n\nCOPPERHEAD LODGE\n\nFRIDAY - SEPTEMBER 25TH - 7-10PM
X-ALT-DESC;FMTTYPE=text/html:<div style="text-align: center\;"><span style="font-size:14px\;"><span style="font-family: verdana\;"><span style="color: rgb(0\, 0\, 128)\;">LIVE BLUES MUSIC<br />\nD.W. MUSSELWHITE &amp\; THE CREW<br />\nCOPPERHEAD LODGE<br />\nFRIDAY - SEPTEMBER 25TH - 7-10PM</span></span></span></div>\n
LOCATION:COPPERHEAD LODGE BLAIRSVILLE\, GA
UID:e.256.44225
SEQUENCE:3
DTSTAMP:20260423T121830Z
URL:https://members.visitblairsvillega.com/events/details/live-blues-music-09-25-2015-44225
END:VEVENT

END:VCALENDAR
