BEGIN:VCALENDAR
VERSION:2.0
PRODID:-//ChamberMaster//Event Calendar 2.0//EN
METHOD:PUBLISH
X-PUBLISHED-TTL:P3D
REFRESH-INTERVAL:P3D
CALSCALE:GREGORIAN
BEGIN:VEVENT
DTSTART:20161002T000000Z
DTEND:20161002T030000Z
X-MICROSOFT-CDO-ALLDAYEVENT:FALSE
SUMMARY:Live Entertainment at The Cove
DESCRIPTION:The Cove welcomes Heidi Holton this Saturday night. Live music on the beach\, while football plays on the deck.
X-ALT-DESC;FMTTYPE=text/html:The Cove welcomes Heidi Holton this Saturday night. Live music on the beach\, while football plays on the deck.&nbsp\;
LOCATION:6036 Hwy 325 Blairsville GA 30512
UID:e.256.59267
SEQUENCE:3
DTSTAMP:20260420T131240Z
URL:https://members.visitblairsvillega.com/events/details/live-entertainment-at-the-cove-10-01-2016-59267
END:VEVENT

END:VCALENDAR
