BEGIN:VCALENDAR
VERSION:2.0
PRODID:-//ChamberMaster//Event Calendar 2.0//EN
METHOD:PUBLISH
X-PUBLISHED-TTL:P3D
REFRESH-INTERVAL:P3D
CALSCALE:GREGORIAN
BEGIN:VEVENT
DTSTART:20161001T000000Z
DTEND:20161001T030000Z
X-MICROSOFT-CDO-ALLDAYEVENT:FALSE
SUMMARY:Live Entertainment at The Cove
DESCRIPTION:The Cove at Nottely Boat Club & Marina welcomes Dj Lory to the lake front stage. Dj Lory will have music and karaoke right on Lake Nottely! This is an experience you don't want to miss.
X-ALT-DESC;FMTTYPE=text/html:The Cove at Nottely Boat Club &amp\; Marina welcomes Dj Lory to the lake front stage. Dj Lory will have music and karaoke right on Lake Nottely! This is an experience you don&#39\;t want to miss.&nbsp\;
LOCATION:6036 Hwy 325 Blairsville\, GA 30512
UID:e.256.59266
SEQUENCE:3
DTSTAMP:20260420T144419Z
URL:https://members.visitblairsvillega.com/events/details/live-entertainment-at-the-cove-59266
END:VEVENT

END:VCALENDAR
