BEGIN:VCALENDAR
VERSION:2.0
PRODID:-//ChamberMaster//Event Calendar 2.0//EN
METHOD:PUBLISH
X-PUBLISHED-TTL:P3D
REFRESH-INTERVAL:P3D
CALSCALE:GREGORIAN
BEGIN:VEVENT
DTSTART:20151218T220000Z
DTEND:20151219T000000Z
X-MICROSOFT-CDO-ALLDAYEVENT:FALSE
SUMMARY:Live Music at Cabin Coffee
DESCRIPTION:Join us for the folk sounds of James Hatem & The Transfers as they join us from Nashville.  This young new group blends blue & folk for a unique twist.  Take a couple of hours to enjoy and relax to kick off your holiday festivities.
X-ALT-DESC;FMTTYPE=text/html:Join us for the folk sounds of James Hatem &amp\; The Transfers as they join us from Nashville.&nbsp\; This young new group blends blue &amp\; folk for a unique twist.&nbsp\; Take a couple of hours to enjoy and relax to kick off your holiday festivities.
LOCATION:Cabin Coffee of Blairsville\, 44A Town Square
UID:e.256.45155
SEQUENCE:3
DTSTAMP:20260421T074303Z
URL:https://members.visitblairsvillega.com/events/details/live-music-at-cabin-coffee-12-18-2015-45155
END:VEVENT

END:VCALENDAR
