BEGIN:VCALENDAR
VERSION:2.0
PRODID:-//ChamberMaster//Event Calendar 2.0//EN
METHOD:PUBLISH
X-PUBLISHED-TTL:P3D
REFRESH-INTERVAL:P3D
CALSCALE:GREGORIAN
BEGIN:VEVENT
DTSTART:20140704T210000Z
DTEND:20140704T230000Z
X-MICROSOFT-CDO-ALLDAYEVENT:FALSE
SUMMARY:Live Music at Cherokee Cellars
DESCRIPTION:Come by Cherokee Cellars in downtown Murphy from 5 to 7 PM on the fourth and listen to the soft rock and country sounds of the Armadillos.  Enjoy the music and a glass of your favorite wine before the fireworks.
X-ALT-DESC;FMTTYPE=text/html:Come by Cherokee Cellars in downtown Murphy from 5 to 7 PM on the fourth and listen to the soft rock and country sounds of the Armadillos.&nbsp\; Enjoy the music and a glass of your favorite wine before the fireworks.
LOCATION:Cherokee Cellars 23 Hickory St. in Downtown Murphy\, NC 28906
UID:e.256.24804
SEQUENCE:3
DTSTAMP:20260424T091843Z
URL:https://members.visitblairsvillega.com/events/details/live-music-at-cherokee-cellars-07-04-2014-24804
END:VEVENT

END:VCALENDAR
