BEGIN:VCALENDAR
VERSION:2.0
PRODID:-//ChamberMaster//Event Calendar 2.0//EN
METHOD:PUBLISH
X-PUBLISHED-TTL:P3D
REFRESH-INTERVAL:P3D
CALSCALE:GREGORIAN
BEGIN:VEVENT
DTSTART:20161009T000000Z
DTEND:20161009T030000Z
X-MICROSOFT-CDO-ALLDAYEVENT:FALSE
SUMMARY:Live Music at The Cove
DESCRIPTION:Southern Vantage rocks The Cove once again. October 8th \, live music from a local and very talented band.
X-ALT-DESC;FMTTYPE=text/html:Southern Vantage rocks The Cove once again. October 8th \, live music from a local and very talented band.&nbsp\;
LOCATION:6036 Nottely Dam Rd Blairsville 30512
UID:e.256.59290
SEQUENCE:3
DTSTAMP:20260420T131240Z
URL:https://members.visitblairsvillega.com/events/details/live-music-at-the-cove-10-08-2016-59290
END:VEVENT

END:VCALENDAR
