BEGIN:VCALENDAR
VERSION:2.0
PRODID:-//ChamberMaster//Event Calendar 2.0//EN
METHOD:PUBLISH
X-PUBLISHED-TTL:P3D
REFRESH-INTERVAL:P3D
CALSCALE:GREGORIAN
BEGIN:VEVENT
DTSTART:20161008T000000Z
DTEND:20161008T030000Z
X-MICROSOFT-CDO-ALLDAYEVENT:FALSE
SUMMARY:Live Music at The Cove
DESCRIPTION:The Cove at Nottely Boat Club welcomes back B.Shelko to the lake front stage. What better way to enjoy Lake Nottely than with live music!
X-ALT-DESC;FMTTYPE=text/html:<p>The Cove at Nottely Boat Club welcomes back B.Shelko to the lake front stage. What better way to enjoy Lake Nottely than with live music!&nbsp\;</p>\n\n<p>&nbsp\;</p>\n
LOCATION:6036 Nottely Dam Rd Blairsville GA 30512
UID:e.256.59289
SEQUENCE:3
DTSTAMP:20260420T131116Z
URL:https://members.visitblairsvillega.com/events/details/live-music-at-the-cove-59289
END:VEVENT

END:VCALENDAR
