BEGIN:VCALENDAR
VERSION:2.0
PRODID:-//ChamberMaster//Event Calendar 2.0//EN
METHOD:PUBLISH
X-PUBLISHED-TTL:P3D
REFRESH-INTERVAL:P3D
CALSCALE:GREGORIAN
BEGIN:VEVENT
DTSTART:20150912T233000Z
DTEND:20150913T020000Z
X-MICROSOFT-CDO-ALLDAYEVENT:FALSE
SUMMARY:Live Music is Better - Denny Jiosa
DESCRIPTION:jiosa.com
X-ALT-DESC;FMTTYPE=text/html:jiosa.com
LOCATION:Blue Ridge Community Theater 6591 East First St Blue Ridge GA 30513
UID:e.256.34597
SEQUENCE:3
DTSTAMP:20260423T121756Z
URL:https://members.visitblairsvillega.com/events/details/live-music-is-better-denny-jiosa-09-12-2015-34597
END:VEVENT

END:VCALENDAR
