BEGIN:VCALENDAR
VERSION:2.0
PRODID:-//ChamberMaster//Event Calendar 2.0//EN
METHOD:PUBLISH
X-PUBLISHED-TTL:P3D
REFRESH-INTERVAL:P3D
CALSCALE:GREGORIAN
BEGIN:VEVENT
DTSTART:20150612T233000Z
DTEND:20150613T020000Z
X-MICROSOFT-CDO-ALLDAYEVENT:FALSE
SUMMARY:Live Music is Better - Joe Gransden - Cabaret Style
DESCRIPTION:joegransden.com
X-ALT-DESC;FMTTYPE=text/html:joegransden.com
LOCATION:Blue Ridge Community Theater 2591 East First St Blue Ridge GA 30512
UID:e.256.34581
SEQUENCE:3
DTSTAMP:20260423T165617Z
URL:https://members.visitblairsvillega.com/events/details/live-music-is-better-joe-gransden-cabaret-style-06-12-2015-34581
END:VEVENT

END:VCALENDAR
