BEGIN:VCALENDAR
VERSION:2.0
PRODID:-//ChamberMaster//Event Calendar 2.0//EN
METHOD:PUBLISH
X-PUBLISHED-TTL:P3D
REFRESH-INTERVAL:P3D
CALSCALE:GREGORIAN
BEGIN:VEVENT
DTSTART:20140802T170000Z
DTEND:20140802T200000Z
X-MICROSOFT-CDO-ALLDAYEVENT:FALSE
SUMMARY:Live Music @ Odom Springs Vineyards
DESCRIPTION:Scott Stambaugh will be performing live!
X-ALT-DESC;FMTTYPE=text/html:Scott Stambaugh will be performing live!
LOCATION:Odom Springs Vineyards
UID:e.256.25378
SEQUENCE:3
DTSTAMP:20260424T073935Z
URL:https://members.visitblairsvillega.com/events/details/live-music-odom-springs-vineyards-08-02-2014-25378
END:VEVENT

END:VCALENDAR
