BEGIN:VCALENDAR
VERSION:2.0
PRODID:-//ChamberMaster//Event Calendar 2.0//EN
METHOD:PUBLISH
X-PUBLISHED-TTL:P3D
REFRESH-INTERVAL:P3D
CALSCALE:GREGORIAN
BEGIN:VEVENT
DTSTART:20140830T170000Z
DTEND:20140830T200000Z
X-MICROSOFT-CDO-ALLDAYEVENT:FALSE
SUMMARY:Live Music @ Odom Springs Vineyards
DESCRIPTION:Ron Harrell performs LIVE!
X-ALT-DESC;FMTTYPE=text/html:Ron Harrell performs LIVE!
LOCATION:Odom Springs Vineyards
UID:e.256.25380
SEQUENCE:3
DTSTAMP:20260424T092058Z
URL:https://members.visitblairsvillega.com/events/details/live-music-odom-springs-vineyards-08-30-2014-25380
END:VEVENT

END:VCALENDAR
