BEGIN:VCALENDAR
VERSION:2.0
PRODID:-//ChamberMaster//Event Calendar 2.0//EN
METHOD:PUBLISH
X-PUBLISHED-TTL:P3D
REFRESH-INTERVAL:P3D
CALSCALE:GREGORIAN
BEGIN:VEVENT
DTSTART:20141129T150000Z
DTEND:20141130T020000Z
X-MICROSOFT-CDO-ALLDAYEVENT:FALSE
SUMMARY:Live Nativity and Holiday Celebration - North Georgia Zoo
DESCRIPTION:Live Nativity and Holiday Celebration at NORTH GEORGIA ZOO \n\nJoin us as we celebrate this holiday season!  A Live Nativity will be set up so we can remember the "Reason for the Season".  Spend time with family and friends being thankful for what God has given us and enjoy activities that will bring families and friends together!  We will have a Marshmallow Roast\, Wool Jump and other Holiday activities that are FREE with admission to the ZOO!
X-ALT-DESC;FMTTYPE=text/html:<span style="font-size: 12px\;"><strong>Live Nativity and Holiday Celebration at NORTH GEORGIA ZOO </strong></span><br />\n<span style="font-size: 12px\;"><span style="color: rgb(0\, 0\, 0)\; font-style: normal\; font-weight: 400\; text-decoration: none\;"><span style="color: rgb(0\, 0\, 0)\; font-style: normal\; font-weight: 400\; text-decoration: none\;">Join</span></span></span><span style="color: rgb(0\, 0\, 0)\; font-style: normal\; font-weight: 400\; text-decoration: none\;"><span style="color: rgb(0\, 0\, 0)\; font-style: normal\; font-weight: 400\; text-decoration: none\;"><font size="3"><span style="font-size: 12px\;"> us as we celebrate this holiday season!&nbsp\; A Live Nativity will be set up so we can remember the &quot\;Reason for the Season&quot\;. &nbsp\;Spend time with family and friends being thankful for what God has given us and enjoy activities that will bring families and friends together!&nbsp\;&nbsp\;We will have a Marshmallow Roast\, Wool Jump and other Holiday activities that are FREE with admission to the ZOO!</span></font></span></span><br />\n<br />\n&nbsp\;
LOCATION:North Georgia Zoo 2912 Paradise Valley Road Cleveland\, GA
UID:e.256.27952
SEQUENCE:3
DTSTAMP:20260424T034154Z
URL:https://members.visitblairsvillega.com/events/details/live-nativity-and-holiday-celebration-north-georgia-zoo-11-29-2014-27952
END:VEVENT

END:VCALENDAR
