BEGIN:VCALENDAR
VERSION:2.0
PRODID:-//ChamberMaster//Event Calendar 2.0//EN
METHOD:PUBLISH
X-PUBLISHED-TTL:P3D
REFRESH-INTERVAL:P3D
CALSCALE:GREGORIAN
BEGIN:VEVENT
DTSTART:20150821T233000Z
DTEND:20150822T010000Z
X-MICROSOFT-CDO-ALLDAYEVENT:FALSE
SUMMARY:Live Theater - A Night In The Theatre
DESCRIPTION:You may recognize these rude playgoers as the obnoxious people who sometimes sit behind you. PG-13
X-ALT-DESC;FMTTYPE=text/html:You may recognize these rude playgoers as the obnoxious people who sometimes sit behind you. PG-13
LOCATION:Blue Ridge Community Theater 2591 East First St. Blue Ridge GA 30513
UID:e.256.34547
SEQUENCE:3
DTSTAMP:20260423T134411Z
URL:https://members.visitblairsvillega.com/events/details/live-theater-a-night-in-the-theatre-08-21-2015-34547
END:VEVENT

END:VCALENDAR
