BEGIN:VCALENDAR
VERSION:2.0
PRODID:-//ChamberMaster//Event Calendar 2.0//EN
METHOD:PUBLISH
X-PUBLISHED-TTL:P3D
REFRESH-INTERVAL:P3D
CALSCALE:GREGORIAN
BEGIN:VEVENT
DTSTART:20140713T180000Z
DTEND:20140713T180000Z
X-MICROSOFT-CDO-ALLDAYEVENT:FALSE
SUMMARY:Live Theater - Always A Bridesmaid
DESCRIPTION:Four friends have sworn at their Senior Prom to be in each other's weddings.....no matter what. Rated PG
X-ALT-DESC;FMTTYPE=text/html:Four friends have sworn at their Senior Prom to be in each other&#39\;s weddings.....no matter what. Rated PG
LOCATION:Blue Ridge Community Theater\; Blue Ridge\, GA
UID:e.256.24946
SEQUENCE:3
DTSTAMP:20260424T092105Z
URL:https://members.visitblairsvillega.com/events/details/live-theater-always-a-bridesmaid-07-13-2014-24946
END:VEVENT

END:VCALENDAR
