BEGIN:VCALENDAR
VERSION:2.0
PRODID:-//ChamberMaster//Event Calendar 2.0//EN
METHOD:PUBLISH
X-PUBLISHED-TTL:P3D
REFRESH-INTERVAL:P3D
CALSCALE:GREGORIAN
BEGIN:VEVENT
DTSTART:20170413T233000Z
DTEND:20170414T010000Z
X-MICROSOFT-CDO-ALLDAYEVENT:FALSE
SUMMARY:Live Theater - "Be My Baby"
DESCRIPTION:A new marriage\, a new country\, a new baby\, and the two single guardians who despise each other will create one chaotic trip. By Ken Ludwig PG-13
X-ALT-DESC;FMTTYPE=text/html:A new marriage\, a new country\, a new baby\, and the two single guardians who despise each other will create one chaotic trip. By Ken Ludwig PG-13
LOCATION:Blue Ridge Community Theater 2591 East First St Blue Ridge GA 30513
UID:e.256.63601
SEQUENCE:3
DTSTAMP:20260420T024137Z
URL:https://members.visitblairsvillega.com/events/details/live-theater-be-my-baby-63601
END:VEVENT

END:VCALENDAR
