BEGIN:VCALENDAR
VERSION:2.0
PRODID:-//ChamberMaster//Event Calendar 2.0//EN
METHOD:PUBLISH
X-PUBLISHED-TTL:P3D
REFRESH-INTERVAL:P3D
CALSCALE:GREGORIAN
BEGIN:VEVENT
DTSTART:20140411T233000Z
DTEND:20140411T200000Z
X-MICROSOFT-CDO-ALLDAYEVENT:FALSE
SUMMARY:Live Theater - Beached Wails
DESCRIPTION:The Harmon sisters are on their yearly "Sister Trip" to Gulf Shores\, when Mother Nature decides to turn things upside down. Rated PG
X-ALT-DESC;FMTTYPE=text/html:The Harmon sisters are on their yearly "Sister Trip" to Gulf Shores\, when Mother Nature decides to turn things upside down. Rated PG
LOCATION:Blue Ridge Community Theater\; Blue Ridge\, GA
UID:e.256.23585
SEQUENCE:3
DTSTAMP:20260424T133314Z
URL:https://members.visitblairsvillega.com/events/details/live-theater-beached-wails-04-11-2014-23585
END:VEVENT

END:VCALENDAR
