BEGIN:VCALENDAR
VERSION:2.0
PRODID:-//ChamberMaster//Event Calendar 2.0//EN
METHOD:PUBLISH
X-PUBLISHED-TTL:P3D
REFRESH-INTERVAL:P3D
CALSCALE:GREGORIAN
BEGIN:VEVENT
DTSTART:20150528T233000Z
DTEND:20150529T010000Z
X-MICROSOFT-CDO-ALLDAYEVENT:FALSE
SUMMARY:Live Theater - Breakfast with Les and Bess
DESCRIPTION:Morning Talk Radio before the turmoil of the sixties stirred the country out of its complacency. PG-13
X-ALT-DESC;FMTTYPE=text/html:Morning Talk Radio before the turmoil of the sixties stirred the country out of its complacency. PG-13
LOCATION:Blue Ridge Community Theater 2591 East First Street Blue Ridge GA 30513
UID:e.256.34521
SEQUENCE:3
DTSTAMP:20260423T200415Z
URL:https://members.visitblairsvillega.com/events/details/live-theater-breakfast-with-les-and-bess-05-28-2015-34521
END:VEVENT

END:VCALENDAR
