BEGIN:VCALENDAR
VERSION:2.0
PRODID:-//ChamberMaster//Event Calendar 2.0//EN
METHOD:PUBLISH
X-PUBLISHED-TTL:P3D
REFRESH-INTERVAL:P3D
CALSCALE:GREGORIAN
BEGIN:VEVENT
DTSTART:20150215T003000Z
DTEND:20150215T023000Z
X-MICROSOFT-CDO-ALLDAYEVENT:FALSE
SUMMARY:Live Theater - Brighton Beach Memoirs
DESCRIPTION:Funny and heartwarming memoir of a 12 year old boy reaching puberty in his 1937 Brooklyn Jewish household. PG-13
X-ALT-DESC;FMTTYPE=text/html:Funny and heartwarming memoir of a 12 year old boy reaching puberty in his 1937 Brooklyn Jewish household. PG-13
LOCATION:Blue Ridge Community Theater 2591 East First St. Blue Ridge GA 30513
UID:e.256.34583
SEQUENCE:3
DTSTAMP:20260423T230057Z
URL:https://members.visitblairsvillega.com/events/details/live-theater-brighton-beach-memoirs-02-14-2015-34583
END:VEVENT

END:VCALENDAR
