BEGIN:VCALENDAR
VERSION:2.0
PRODID:-//ChamberMaster//Event Calendar 2.0//EN
METHOD:PUBLISH
X-PUBLISHED-TTL:P3D
REFRESH-INTERVAL:P3D
CALSCALE:GREGORIAN
BEGIN:VEVENT
DTSTART:20160424T180000Z
DTEND:20160424T193000Z
X-MICROSOFT-CDO-ALLDAYEVENT:FALSE
SUMMARY:Live Theater - ''Broadway Bound''
DESCRIPTION:Part three of Neil Simon's acclaimed autobiographical trilogy finds Eugene and his older brother\, Stanley\, trying to break into the world of show business\, but at what cost? By - Neil Simon Rated PG-13
X-ALT-DESC;FMTTYPE=text/html:Part three of Neil Simon&#39\;s acclaimed autobiographical trilogy finds Eugene and his older brother\, Stanley\, trying to break into the world of show business\, but at what cost? By - Neil Simon Rated PG-13
LOCATION:Blue Ridge Community Theater 2591 East First Street Blue Ridge GA 30513
UID:e.256.49588
SEQUENCE:3
DTSTAMP:20260421T021817Z
URL:https://members.visitblairsvillega.com/events/details/live-theater-broadway-bound-04-24-2016-49588
END:VEVENT

END:VCALENDAR
