BEGIN:VCALENDAR
VERSION:2.0
PRODID:-//ChamberMaster//Event Calendar 2.0//EN
METHOD:PUBLISH
X-PUBLISHED-TTL:P3D
REFRESH-INTERVAL:P3D
CALSCALE:GREGORIAN
BEGIN:VEVENT
DTSTART:20151211T003000Z
DTEND:20151211T020000Z
X-MICROSOFT-CDO-ALLDAYEVENT:FALSE
SUMMARY:Live Theater - Dickens' Christmas Carol
DESCRIPTION:The classic tale of the Christmas Spirit with a twist that will have you howling! Rated G
X-ALT-DESC;FMTTYPE=text/html:The classic tale of the Christmas Spirit with a twist that will have you howling! Rated G
LOCATION:Blue Ridge Community Theater 2591 East First St Blue Ridge GA 30513
UID:e.256.34576
SEQUENCE:3
DTSTAMP:20260421T074507Z
URL:https://members.visitblairsvillega.com/events/details/live-theater-dickens-christmas-carol-12-10-2015-34576
END:VEVENT

END:VCALENDAR
