BEGIN:VCALENDAR
VERSION:2.0
PRODID:-//ChamberMaster//Event Calendar 2.0//EN
METHOD:PUBLISH
X-PUBLISHED-TTL:P3D
REFRESH-INTERVAL:P3D
CALSCALE:GREGORIAN
BEGIN:VEVENT
DTSTART:20160605T180000Z
DTEND:20160605T193000Z
X-MICROSOFT-CDO-ALLDAYEVENT:FALSE
SUMMARY:Live Theater - ''Drinking Habits''
DESCRIPTION:Bootlegging nuns\, mistaken identities\, romance and reporters make for one 'madcap' comedy! By Tom Smith Rated PG-13
X-ALT-DESC;FMTTYPE=text/html:Bootlegging nuns\, mistaken identities\, romance and reporters make for one &#39\;madcap&#39\; comedy! By Tom Smith Rated PG-13
LOCATION:Blue Ridge Community Theater 2591 East First Street Blue Ridge GA 30513
UID:e.256.49586
SEQUENCE:3
DTSTAMP:20260420T222658Z
URL:https://members.visitblairsvillega.com/events/details/live-theater-drinking-habits-06-05-2016-49586
END:VEVENT

END:VCALENDAR
