BEGIN:VCALENDAR
VERSION:2.0
PRODID:-//ChamberMaster//Event Calendar 2.0//EN
METHOD:PUBLISH
X-PUBLISHED-TTL:P3D
REFRESH-INTERVAL:P3D
CALSCALE:GREGORIAN
BEGIN:VEVENT
DTSTART:20140214T003000Z
DTEND:20140302T190000Z
X-MICROSOFT-CDO-ALLDAYEVENT:FALSE
SUMMARY:Live Theater - Lost in Yonkers
DESCRIPTION:Considered the best play written by America's favorite comic playwright\, Neil Simon. Rated PG
X-ALT-DESC;FMTTYPE=text/html:Considered the best play written by America&#39\;s favorite comic playwright\, Neil Simon. Rated PG
LOCATION:Blue Ridge Community Theater\; Blue Ridge\, GA
UID:e.256.20803
SEQUENCE:3
DTSTAMP:20260424T164629Z
URL:https://members.visitblairsvillega.com/events/details/live-theater-lost-in-yonkers-02-13-2014-20803
END:VEVENT

END:VCALENDAR
