BEGIN:VCALENDAR
VERSION:2.0
PRODID:-//ChamberMaster//Event Calendar 2.0//EN
METHOD:PUBLISH
X-PUBLISHED-TTL:P3D
REFRESH-INTERVAL:P3D
CALSCALE:GREGORIAN
BEGIN:VEVENT
DTSTART:20170304T003000Z
DTEND:20170304T030000Z
X-MICROSOFT-CDO-ALLDAYEVENT:FALSE
SUMMARY:Live Theater - "Moonlight and Magnolias"
DESCRIPTION:"Moonlight and Magnolias" - by Ron Hutchinson 1939 Hollywood is abuzz. Legendary producer Selznick has shut down production of his new eipc\, Gone With the Wind. The screenplay isn't working. He summons Ben Hecht and Victor Fleming. They stay behind closed doors for 5 days\, eating bananas and peanuts. They fashion a screenplay that will become the blueprint for one of the most successful and beloved films of all time.
X-ALT-DESC;FMTTYPE=text/html:"Moonlight and Magnolias" - by Ron Hutchinson 1939 Hollywood is abuzz. Legendary producer Selznick has shut down production of his new eipc\, Gone With the Wind. The screenplay isn't working. He summons Ben Hecht and Victor Fleming. They stay behind closed doors for 5 days\, eating bananas and peanuts. They fashion a screenplay that will become the blueprint for one of the most successful and beloved films of all time.
LOCATION:Blue Ridge Community Theater 2591 East First St Blue Ridge GA 30513
UID:e.256.63611
SEQUENCE:3
DTSTAMP:20260420T043052Z
URL:https://members.visitblairsvillega.com/events/details/live-theater-moonlight-and-magnolias-03-03-2017-63611
END:VEVENT

END:VCALENDAR
