BEGIN:VCALENDAR
VERSION:2.0
PRODID:-//ChamberMaster//Event Calendar 2.0//EN
METHOD:PUBLISH
X-PUBLISHED-TTL:P3D
REFRESH-INTERVAL:P3D
CALSCALE:GREGORIAN
BEGIN:VEVENT
DTSTART:20170818T233000Z
DTEND:20170819T010000Z
X-MICROSOFT-CDO-ALLDAYEVENT:FALSE
SUMMARY:Live Theater - "One Slight Hitch"
DESCRIPTION:It is a dream day for the mother and bride\, but everything goes horribly and hilariously wrong! By Lewis Black PG-13
X-ALT-DESC;FMTTYPE=text/html:It is a dream day for the mother and bride\, but everything goes horribly and hilariously wrong! By Lewis Black PG-13
LOCATION:Blue Ridge Community Theater 2591 East First St Blue Ridge GA 30513
UID:e.256.63671
SEQUENCE:3
DTSTAMP:20260419T210613Z
URL:https://members.visitblairsvillega.com/events/details/live-theater-one-slight-hitch-08-18-2017-63671
END:VEVENT

END:VCALENDAR
