BEGIN:VCALENDAR
VERSION:2.0
PRODID:-//ChamberMaster//Event Calendar 2.0//EN
METHOD:PUBLISH
X-PUBLISHED-TTL:P3D
REFRESH-INTERVAL:P3D
CALSCALE:GREGORIAN
BEGIN:VEVENT
DTSTART:20170528T180000Z
DTEND:20170528T210000Z
X-MICROSOFT-CDO-ALLDAYEVENT:FALSE
SUMMARY:Live Theater Performance
DESCRIPTION:Newlyweds\, new careers\, visiting executives wreak havoc on the young couple's marital bliss. By Anthony Marriot\, Alistair Foot PG-13
X-ALT-DESC;FMTTYPE=text/html:Newlyweds\, new careers\, visiting executives wreak havoc on the young couple&#39\;s marital bliss. By Anthony Marriot\, Alistair Foot PG-13
LOCATION:Blue Ridge Community Theater 2591 East First St Blue Ridge GA 30513
UID:e.256.63647
SEQUENCE:3
DTSTAMP:20260420T005945Z
URL:https://members.visitblairsvillega.com/events/details/live-theater-performance-05-28-2017-63647
END:VEVENT

END:VCALENDAR
