BEGIN:VCALENDAR
VERSION:2.0
PRODID:-//ChamberMaster//Event Calendar 2.0//EN
METHOD:PUBLISH
X-PUBLISHED-TTL:P3D
REFRESH-INTERVAL:P3D
CALSCALE:GREGORIAN
BEGIN:VEVENT
DTSTART:20160709T233000Z
DTEND:20160710T010000Z
X-MICROSOFT-CDO-ALLDAYEVENT:FALSE
SUMMARY:Live Theater - "Play On"
DESCRIPTION:Oh the 'horrors' of Community Theater when the haughty author runs amok interfering with the production of her dreadful show resulting in one laugh after another! By Rick Abbot Rated PG-13
X-ALT-DESC;FMTTYPE=text/html:Oh the 'horrors' of Community Theater when the haughty author runs amok interfering with the production of her dreadful show resulting in one laugh after another! By Rick Abbot Rated PG-13
LOCATION:2591 East First Street Blue Ridge GA 30513
UID:e.256.49542
SEQUENCE:3
DTSTAMP:20260420T202959Z
URL:https://members.visitblairsvillega.com/events/details/live-theater-play-on-07-09-2016-49542
END:VEVENT

END:VCALENDAR
