BEGIN:VCALENDAR
VERSION:2.0
PRODID:-//ChamberMaster//Event Calendar 2.0//EN
METHOD:PUBLISH
X-PUBLISHED-TTL:P3D
REFRESH-INTERVAL:P3D
CALSCALE:GREGORIAN
BEGIN:VEVENT
DTSTART:20150716T233000Z
DTEND:20150717T010000Z
X-MICROSOFT-CDO-ALLDAYEVENT:FALSE
SUMMARY:Live Theater - Radio TBS (Trailer Broadcasting Scandals)
DESCRIPTION:And what a Jumpin' Scandalous place this trailer park is!!! PG-13
X-ALT-DESC;FMTTYPE=text/html:And what a Jumpin' Scandalous place this trailer park is!!! PG-13
LOCATION:Blue Ridge Community Theater 2591 East First St. Blue Ridge GA 30513
UID:e.256.34537
SEQUENCE:3
DTSTAMP:20260423T151718Z
URL:https://members.visitblairsvillega.com/events/details/live-theater-radio-tbs-trailer-broadcasting-scandals-07-16-2015-34537
END:VEVENT

END:VCALENDAR
