BEGIN:VCALENDAR
VERSION:2.0
PRODID:-//ChamberMaster//Event Calendar 2.0//EN
METHOD:PUBLISH
X-PUBLISHED-TTL:P3D
REFRESH-INTERVAL:P3D
CALSCALE:GREGORIAN
BEGIN:VEVENT
DTSTART:20150308T003000Z
DTEND:20150308T020000Z
X-MICROSOFT-CDO-ALLDAYEVENT:FALSE
SUMMARY:Live Theater - Second Chance for Brighton Beach Memoirs
DESCRIPTION:The snow will not upstage the Show!!!!! Come see the final/extended performances of "Brighton Beach Memoirs"\, by Neil Simon.
X-ALT-DESC;FMTTYPE=text/html:The snow will not upstage the Show!!!!! Come see the final/extended performances of &quot\;Brighton Beach Memoirs&quot\;\, by Neil Simon.
LOCATION:Blue Ridge Community Theater 2591 East First St. Blue Ridge GA 30513
UID:e.256.37656
SEQUENCE:3
DTSTAMP:20260423T212218Z
URL:https://members.visitblairsvillega.com/events/details/live-theater-second-chance-for-brighton-beach-memoirs-03-07-2015-37656
END:VEVENT

END:VCALENDAR
